BEGIN:VCALENDAR
VERSION:2.0
PRODID:-//DAV Meiningen - ECPv6.15.20//NONSGML v1.0//EN
CALSCALE:GREGORIAN
METHOD:PUBLISH
X-ORIGINAL-URL:https://dav-meiningen.de
X-WR-CALDESC:Veranstaltungen für DAV Meiningen
REFRESH-INTERVAL;VALUE=DURATION:PT1H
X-Robots-Tag:noindex
X-PUBLISHED-TTL:PT1H
BEGIN:VTIMEZONE
TZID:Europe/Berlin
BEGIN:DAYLIGHT
TZOFFSETFROM:+0100
TZOFFSETTO:+0200
TZNAME:CEST
DTSTART:20220327T010000
END:DAYLIGHT
BEGIN:STANDARD
TZOFFSETFROM:+0200
TZOFFSETTO:+0100
TZNAME:CET
DTSTART:20221030T010000
END:STANDARD
BEGIN:DAYLIGHT
TZOFFSETFROM:+0100
TZOFFSETTO:+0200
TZNAME:CEST
DTSTART:20230326T010000
END:DAYLIGHT
BEGIN:STANDARD
TZOFFSETFROM:+0200
TZOFFSETTO:+0100
TZNAME:CET
DTSTART:20231029T010000
END:STANDARD
BEGIN:DAYLIGHT
TZOFFSETFROM:+0100
TZOFFSETTO:+0200
TZNAME:CEST
DTSTART:20240331T010000
END:DAYLIGHT
BEGIN:STANDARD
TZOFFSETFROM:+0200
TZOFFSETTO:+0100
TZNAME:CET
DTSTART:20241027T010000
END:STANDARD
END:VTIMEZONE
BEGIN:VEVENT
DTSTART;TZID=Europe/Berlin:20230715T100000
DTEND;TZID=Europe/Berlin:20230715T170000
DTSTAMP:20260421T120931
CREATED:20230212T205203Z
LAST-MODIFIED:20230212T205928Z
UID:1881-1689415200-1689440400@dav-meiningen.de
SUMMARY:Sommerfest an der RBH
DESCRIPTION:Und wie in jedem Jahr treffen wir uns wieder an der Rudolf-Baumbach-Hütte in Friedelshausen zu unserem Sektionsfest!!! Wir freuen uns über Jeden\, der kommt und mit uns ein paar frohe Stunden verbringen möchte. Gebt bitte Bescheid\, wer kommen möchte und wer uns mit was unterstützen möchte (z. B. Kuchen oder Salat)\, wir freuen uns über alles\, und es erleichtert einfach die Planung und die Vorbereitung.
URL:https://dav-meiningen.de/event/sommerfest-an-der-rbh/
LOCATION:Rudolf Baumbach Hütte\, Kaltenlengsfelder Weg\, Friedelshausen\, 98634
CATEGORIES:Gruppentreff
ORGANIZER;CN="Gunter Ungerecht":MAILTO:info@dav-meiningen.de
END:VEVENT
BEGIN:VEVENT
DTSTART;TZID=Europe/Berlin:20230720T050000
DTEND;TZID=Europe/Berlin:20230723T170000
DTSTAMP:20260421T120931
CREATED:20230312T185456Z
LAST-MODIFIED:20230312T185629Z
UID:1890-1689829200-1690131600@dav-meiningen.de
SUMMARY:Wandertour vom Waltenberger Haus zur Rappenseehütte
DESCRIPTION:Tag: Parkplatz Fellhornbahn in Oberstdorf\, Aufstieg über Einödsbach zum Waltenberger Haus mit Übernachtung auf 2084 m\n\n\nTag: Aufstieg über Backkar-Bockkarscharte\, Mädelegabel 2645 m zur Rappenseehütte auf 1844 m mit Übernachtung\n\n\nTag: Aufstieg zum Hohen Licht 2651 m und zweite Übernachtung in der Rappenseehütte\n\n\nTag: Abstieg über Enzianhütte und Petersalpe zurück nach Oberstdorf\n\nAnreise in Fahrgemeinschaften nach Absprache. Anmeldung bis 15.06.2023!
URL:https://dav-meiningen.de/event/wandertour-vom-waltenberger-haus-zur-rappenseehuette/
LOCATION:Parkplatz Fellhorn Talstation\, Parkplatz Fellhorn Talstation\, Oberstdorf\, 87561\, Deutschland
CATEGORIES:Bergtour
END:VEVENT
END:VCALENDAR