BEGIN:VCALENDAR
VERSION:2.0
PRODID:-//DAV Meiningen - ECPv6.15.20//NONSGML v1.0//EN
CALSCALE:GREGORIAN
METHOD:PUBLISH
X-ORIGINAL-URL:https://dav-meiningen.de
X-WR-CALDESC:Veranstaltungen für DAV Meiningen
REFRESH-INTERVAL;VALUE=DURATION:PT1H
X-Robots-Tag:noindex
X-PUBLISHED-TTL:PT1H
BEGIN:VTIMEZONE
TZID:Europe/Berlin
BEGIN:DAYLIGHT
TZOFFSETFROM:+0100
TZOFFSETTO:+0200
TZNAME:CEST
DTSTART:20220327T010000
END:DAYLIGHT
BEGIN:STANDARD
TZOFFSETFROM:+0200
TZOFFSETTO:+0100
TZNAME:CET
DTSTART:20221030T010000
END:STANDARD
BEGIN:DAYLIGHT
TZOFFSETFROM:+0100
TZOFFSETTO:+0200
TZNAME:CEST
DTSTART:20230326T010000
END:DAYLIGHT
BEGIN:STANDARD
TZOFFSETFROM:+0200
TZOFFSETTO:+0100
TZNAME:CET
DTSTART:20231029T010000
END:STANDARD
BEGIN:DAYLIGHT
TZOFFSETFROM:+0100
TZOFFSETTO:+0200
TZNAME:CEST
DTSTART:20240331T010000
END:DAYLIGHT
BEGIN:STANDARD
TZOFFSETFROM:+0200
TZOFFSETTO:+0100
TZNAME:CET
DTSTART:20241027T010000
END:STANDARD
END:VTIMEZONE
BEGIN:VEVENT
DTSTART;TZID=Europe/Berlin:20231202T130000
DTEND;TZID=Europe/Berlin:20231203T170000
DTSTAMP:20260421T051204
CREATED:20230312T192640Z
LAST-MODIFIED:20230312T192641Z
UID:1911-1701522000-1701622800@dav-meiningen.de
SUMMARY:Wandern im Im Land der offenen Fernen
DESCRIPTION:Gemeinschaftstour des BUND mit dem Alpenverein\, Sektion Meiningen Wandern im Im Land der offenen Fernen \nWanderfreunde sind herzlich eingeladen zu einem gemeinsamen Hüttenwochenende nach Friedelshausen in die thüringische Rhön. \nAnmeldung bis spätestens 18.11.2023 erbeten!
URL:https://dav-meiningen.de/event/wandern-im-im-land-der-offenen-fernen/
LOCATION:Rudolf Baumbach Hütte\, Kaltenlengsfelder Weg\, Friedelshausen\, 98634
CATEGORIES:Wanderung
ORGANIZER;CN="Gunter Ungerecht":MAILTO:info@dav-meiningen.de
END:VEVENT
BEGIN:VEVENT
DTSTART;TZID=Europe/Berlin:20231210T100000
DTEND;TZID=Europe/Berlin:20231210T123000
DTSTAMP:20260421T051204
CREATED:20230312T192910Z
LAST-MODIFIED:20230312T193016Z
UID:1913-1702202400-1702211400@dav-meiningen.de
SUMMARY:Jahresabschlusswanderung der Sektion
DESCRIPTION:Zu einem gemütlichen Abschluss des „Wanderjahres“ treffen wir uns zur Jahresabschlusswanderung. Die Tour geht über die Schülersruh\, weiter zum Schloss in Dreißigacker und dann wieder Einkehr in der Götzhöhle. \nMit Wanderführerin Nora Graul \nAnmeldung wegen Vorbestellung in der Gaststätte unbedingt bis 03.12.2023 erforderlich!
URL:https://dav-meiningen.de/event/jahresabschlusswanderung-der-sektion/
LOCATION:Normaparkplatz Meiningen\, Schlillerstraße 14\, Meiningen\, 98617\, Deutschland
CATEGORIES:Wanderung
ORGANIZER;CN="Angelika und Benno Fernkorn":MAILTO:schriftfuehrer@dav-meiningen.de
END:VEVENT
END:VCALENDAR