BEGIN:VCALENDAR
VERSION:2.0
PRODID:-//DAV Meiningen - ECPv6.15.20//NONSGML v1.0//EN
CALSCALE:GREGORIAN
METHOD:PUBLISH
X-WR-CALNAME:DAV Meiningen
X-ORIGINAL-URL:https://dav-meiningen.de
X-WR-CALDESC:Veranstaltungen für DAV Meiningen
REFRESH-INTERVAL;VALUE=DURATION:PT1H
X-Robots-Tag:noindex
X-PUBLISHED-TTL:PT1H
BEGIN:VTIMEZONE
TZID:Europe/Berlin
BEGIN:DAYLIGHT
TZOFFSETFROM:+0100
TZOFFSETTO:+0200
TZNAME:CEST
DTSTART:20230326T010000
END:DAYLIGHT
BEGIN:STANDARD
TZOFFSETFROM:+0200
TZOFFSETTO:+0100
TZNAME:CET
DTSTART:20231029T010000
END:STANDARD
BEGIN:DAYLIGHT
TZOFFSETFROM:+0100
TZOFFSETTO:+0200
TZNAME:CEST
DTSTART:20240331T010000
END:DAYLIGHT
BEGIN:STANDARD
TZOFFSETFROM:+0200
TZOFFSETTO:+0100
TZNAME:CET
DTSTART:20241027T010000
END:STANDARD
BEGIN:DAYLIGHT
TZOFFSETFROM:+0100
TZOFFSETTO:+0200
TZNAME:CEST
DTSTART:20250330T010000
END:DAYLIGHT
BEGIN:STANDARD
TZOFFSETFROM:+0200
TZOFFSETTO:+0100
TZNAME:CET
DTSTART:20251026T010000
END:STANDARD
END:VTIMEZONE
BEGIN:VEVENT
DTSTART;TZID=Europe/Berlin:20240502T190000
DTEND;TZID=Europe/Berlin:20240502T220000
DTSTAMP:20260420T231906
CREATED:20231222T175438Z
LAST-MODIFIED:20231222T175438Z
UID:2169-1714676400-1714687200@dav-meiningen.de
SUMMARY:Bergvagabunden
DESCRIPTION:Die Bergvagabunden Bruno Heinl (Mundharmonika)\, Jochen Hollandt (Akkordeon) und Jürgen Sando treffen sich zu einem geselligen Abend\, um gemeinsam zu singen und zu erzählen.
URL:https://dav-meiningen.de/event/bergvagabunden-3/
LOCATION:Gaststätte zum Hirsch\, An der unteren Linde 5\, Meiningen\, 98617\, Deutschland
CATEGORIES:Gruppentreff
END:VEVENT
BEGIN:VEVENT
DTSTART;TZID=Europe/Berlin:20240526T090000
DTEND;TZID=Europe/Berlin:20240526T170000
DTSTAMP:20260420T231906
CREATED:20230212T204229Z
LAST-MODIFIED:20231222T180947Z
UID:1873-1716714000-1716742800@dav-meiningen.de
SUMMARY:Radtour in der Heimat
DESCRIPTION:Wegstrecke: Von Schwarza geht es über den Förstersmord bei Viernau zum Ehrenmal\, Sprungschanze und Ruine Hallenberg nach Steinbach Hallenberg. Weiter geht es zum Wildgehege\, Hohe Möst und Hoher Stein in Oberschönau\, über den Kohlbachsgrund\, Finkenstein zum Hermannsberg. Einkehr im Gasthof Knüllfeld und zurück. Ein Mountainbike ist von Vorteil \nStrecke/Tour: 1150 Hm\, Streckenlänge ca. 70 km \nAnmeldung: bis 24.05.2024 Wegen der Platzreservierung mit Essenbestellung 
URL:https://dav-meiningen.de/event/radtour-nach-trostadt/
LOCATION:Cafe Delawu\, Am Markt 8\, Schwarza\, 98547
CATEGORIES:Radtour
END:VEVENT
END:VCALENDAR