BEGIN:VCALENDAR
VERSION:2.0
PRODID:-//DAV Meiningen - ECPv6.15.20//NONSGML v1.0//EN
CALSCALE:GREGORIAN
METHOD:PUBLISH
X-WR-CALNAME:DAV Meiningen
X-ORIGINAL-URL:https://dav-meiningen.de
X-WR-CALDESC:Veranstaltungen für DAV Meiningen
REFRESH-INTERVAL;VALUE=DURATION:PT1H
X-Robots-Tag:noindex
X-PUBLISHED-TTL:PT1H
BEGIN:VTIMEZONE
TZID:Europe/Berlin
BEGIN:DAYLIGHT
TZOFFSETFROM:+0100
TZOFFSETTO:+0200
TZNAME:CEST
DTSTART:20230326T010000
END:DAYLIGHT
BEGIN:STANDARD
TZOFFSETFROM:+0200
TZOFFSETTO:+0100
TZNAME:CET
DTSTART:20231029T010000
END:STANDARD
BEGIN:DAYLIGHT
TZOFFSETFROM:+0100
TZOFFSETTO:+0200
TZNAME:CEST
DTSTART:20240331T010000
END:DAYLIGHT
BEGIN:STANDARD
TZOFFSETFROM:+0200
TZOFFSETTO:+0100
TZNAME:CET
DTSTART:20241027T010000
END:STANDARD
BEGIN:DAYLIGHT
TZOFFSETFROM:+0100
TZOFFSETTO:+0200
TZNAME:CEST
DTSTART:20250330T010000
END:DAYLIGHT
BEGIN:STANDARD
TZOFFSETFROM:+0200
TZOFFSETTO:+0100
TZNAME:CET
DTSTART:20251026T010000
END:STANDARD
END:VTIMEZONE
BEGIN:VEVENT
DTSTART;TZID=Europe/Berlin:20240901T093000
DTEND;TZID=Europe/Berlin:20240901T170000
DTSTAMP:20260420T182933
CREATED:20230312T190709Z
LAST-MODIFIED:20240213T200102Z
UID:1898-1725183000-1725210000@dav-meiningen.de
SUMMARY:Weinberg-Wanderung in Erlabrunn
DESCRIPTION:Traditionsgemäß wandern wir wieder im Fränkischen Weinland \nTreff: 09.30 Uhr am Parkplatz Großmutterwiese oder ca. 11.00 Uhr am Sportlerheim in Erlabrunn
URL:https://dav-meiningen.de/event/weinberg-wanderung-in-erlabrunn/
LOCATION:Parkplatz Sportlerheim Erlabrunn\, Fischergasse 17\, Erlabrunn\, 97250
CATEGORIES:Wanderung
ORGANIZER;CN="Angelika und Benno Fernkorn":MAILTO:schriftfuehrer@dav-meiningen.de
END:VEVENT
BEGIN:VEVENT
DTSTART;VALUE=DATE:20240907
DTEND;VALUE=DATE:20240912
DTSTAMP:20260420T182933
CREATED:20240429T202232Z
LAST-MODIFIED:20240429T202232Z
UID:2258-1725667200-1726099199@dav-meiningen.de
SUMMARY:Fünf Tage Bergerlebnis ... Adamello-Höhenweg
DESCRIPTION:Geplant ist der Adamello Höhenweg\nBergtour mit teils Hochtourencharakter\nGenaue Tour und Route werden zeitnah festgelegt. \nHüttentrekking\, in hochalpinen Gelände\nTagesetappen bis 8 Stunden und große Höhendifferenzen\nGute Kondition und absolute Trittsicherheit sind obligatorisch. \nAusrüstung für Mehrtagestour und evtl. Hochtourenausrüstung notwendig. \nAuf Grund teils langer Anfahrt\, Abfahrt ggf. bereits am 6.09. \nmx. 8 Personen
URL:https://dav-meiningen.de/event/fuenf-tage-bergerlebnis-adamello-hoehenweg/
CATEGORIES:Hochtour
ORGANIZER;CN="Gunter Ungerecht":MAILTO:info@dav-meiningen.de
END:VEVENT
BEGIN:VEVENT
DTSTART;TZID=Europe/Berlin:20240926T080000
DTEND;TZID=Europe/Berlin:20240926T190000
DTSTAMP:20260420T182933
CREATED:20240429T200141Z
LAST-MODIFIED:20240429T200141Z
UID:2253-1727337600-1727377200@dav-meiningen.de
SUMMARY:Bergvagabunden
DESCRIPTION:Die Bergvagabunden Bruno Heinl (Mundharmonika)\, Jochen Hollandt (Akkordeon) und Jürgen Sando treffen sich zu einem geselligen Abend\, um gemeinsam zu singen und zu erzählen.
URL:https://dav-meiningen.de/event/bergvagabunden-4/
LOCATION:Gaststätte zum Hirsch\, An der unteren Linde 5\, Meiningen\, 98617\, Deutschland
CATEGORIES:Gruppentreff
END:VEVENT
END:VCALENDAR