BEGIN:VCALENDAR
VERSION:2.0
PRODID:-//DAV Meiningen - ECPv6.15.20//NONSGML v1.0//EN
CALSCALE:GREGORIAN
METHOD:PUBLISH
X-ORIGINAL-URL:https://dav-meiningen.de
X-WR-CALDESC:Veranstaltungen für DAV Meiningen
REFRESH-INTERVAL;VALUE=DURATION:PT1H
X-Robots-Tag:noindex
X-PUBLISHED-TTL:PT1H
BEGIN:VTIMEZONE
TZID:Europe/Berlin
BEGIN:DAYLIGHT
TZOFFSETFROM:+0100
TZOFFSETTO:+0200
TZNAME:CEST
DTSTART:20250330T010000
END:DAYLIGHT
BEGIN:STANDARD
TZOFFSETFROM:+0200
TZOFFSETTO:+0100
TZNAME:CET
DTSTART:20251026T010000
END:STANDARD
BEGIN:DAYLIGHT
TZOFFSETFROM:+0100
TZOFFSETTO:+0200
TZNAME:CEST
DTSTART:20260329T010000
END:DAYLIGHT
BEGIN:STANDARD
TZOFFSETFROM:+0200
TZOFFSETTO:+0100
TZNAME:CET
DTSTART:20261025T010000
END:STANDARD
BEGIN:DAYLIGHT
TZOFFSETFROM:+0100
TZOFFSETTO:+0200
TZNAME:CEST
DTSTART:20270328T010000
END:DAYLIGHT
BEGIN:STANDARD
TZOFFSETFROM:+0200
TZOFFSETTO:+0100
TZNAME:CET
DTSTART:20271031T010000
END:STANDARD
BEGIN:DAYLIGHT
TZOFFSETFROM:+0100
TZOFFSETTO:+0200
TZNAME:CEST
DTSTART:20280326T010000
END:DAYLIGHT
BEGIN:STANDARD
TZOFFSETFROM:+0200
TZOFFSETTO:+0100
TZNAME:CET
DTSTART:20281029T010000
END:STANDARD
END:VTIMEZONE
BEGIN:VEVENT
DTSTART;VALUE=DATE:20260509
DTEND;VALUE=DATE:20270601
DTSTAMP:20260424T102313
CREATED:20230212T164143Z
LAST-MODIFIED:20260330T180735Z
UID:1838-1778284800-1811807999@dav-meiningen.de
SUMMARY:1. Arbeitseinsatz RBH
DESCRIPTION:Termin steht noch nicht fest. Bekanntmachung hier\, sobald bekannt. \n  \n \nHallo Leute – unsere Hütte und wir brauchen wieder Helfer\, es gibt für alle was zu tun. Wer kommen kann – wir freuen uns über jeden!  … und wer viel (oder/und) gut arbeitet\, muss auch nicht hungern. Also Leute nicht zu Hause Füße hoch\, sondern zu uns kommen. \nStart: 10 Uhr
URL:https://dav-meiningen.de/event/1-arbeitseinsatz-rbh/
LOCATION:Rudolf Baumbach Hütte\, Kaltenlengsfelder Weg\, Friedelshausen\, 98634
CATEGORIES:Arbeitseinsatz
ORGANIZER;CN="Gunter Ungerecht":MAILTO:info@dav-meiningen.de
END:VEVENT
BEGIN:VEVENT
DTSTART;TZID=Europe/Berlin:20260612T200000
DTEND;TZID=Europe/Berlin:20260731T230000
DTSTAMP:20260424T102313
CREATED:20230312T192302Z
LAST-MODIFIED:20260330T182815Z
UID:1909-1781294400-1785538800@dav-meiningen.de
SUMMARY:DAV Stammtisch
DESCRIPTION:Termin wird noch bekanntgegeben. \n  \nHallo Bergfreunde\, \nes gibt nicht nur Arbeit\, man muss sich auch mal einfach nur treffen. Das tun wir ab diesem Jahr in der „Linde“ in Untermaßfeld zum Austauschen von Bergerlebnissen\, Touren planen\, gut essen und trinken und zum gemütlichen Beisammensein. Wer nicht kommt\, verpasst was!
URL:https://dav-meiningen.de/event/dav-stammtisch-4/
LOCATION:Zur Linde Gasthaus\, Henneberger Straße 2\, Untermaßfeld\, Thüringen\, 98617\, Deutschland
CATEGORIES:Gruppentreff
ORGANIZER;CN="Gunter Ungerecht":MAILTO:info@dav-meiningen.de
END:VEVENT
BEGIN:VEVENT
DTSTART;VALUE=DATE:20260720
DTEND;VALUE=DATE:20260721
DTSTAMP:20260424T102313
CREATED:20260223T205551Z
LAST-MODIFIED:20260223T205643Z
UID:2596-1784505600-1784591999@dav-meiningen.de
SUMMARY:Hüttentour Hohe Tauern „Rund um Krimml“
DESCRIPTION:Genaue Terminabsprache folgt !!! \nAnreise zum Krimmler Tauernhaus \nGeplant sind Wanderungen zur Richterhütte\, Birnlückenhütte\, Warnsdorfer Hütte und Gipfelbesteigung Gamsspitzl. Nach dem Abstieg ist noch eine Tour zur NTH möglich. \nAnreise über Fahrgemeinschaften
URL:https://dav-meiningen.de/event/huettentour-hohe-tauern-rund-um-krimml/
LOCATION:Krimmler Tauernhaus\, Krimmler Achental\, Krimml\, 5743
CATEGORIES:Bergtour
END:VEVENT
END:VCALENDAR