BEGIN:VCALENDAR
VERSION:2.0
PRODID:-//DAV Meiningen - ECPv6.15.20//NONSGML v1.0//EN
CALSCALE:GREGORIAN
METHOD:PUBLISH
X-ORIGINAL-URL:https://dav-meiningen.de
X-WR-CALDESC:Veranstaltungen für DAV Meiningen
REFRESH-INTERVAL;VALUE=DURATION:PT1H
X-Robots-Tag:noindex
X-PUBLISHED-TTL:PT1H
BEGIN:VTIMEZONE
TZID:Europe/Berlin
BEGIN:DAYLIGHT
TZOFFSETFROM:+0100
TZOFFSETTO:+0200
TZNAME:CEST
DTSTART:20250330T010000
END:DAYLIGHT
BEGIN:STANDARD
TZOFFSETFROM:+0200
TZOFFSETTO:+0100
TZNAME:CET
DTSTART:20251026T010000
END:STANDARD
BEGIN:DAYLIGHT
TZOFFSETFROM:+0100
TZOFFSETTO:+0200
TZNAME:CEST
DTSTART:20260329T010000
END:DAYLIGHT
BEGIN:STANDARD
TZOFFSETFROM:+0200
TZOFFSETTO:+0100
TZNAME:CET
DTSTART:20261025T010000
END:STANDARD
BEGIN:DAYLIGHT
TZOFFSETFROM:+0100
TZOFFSETTO:+0200
TZNAME:CEST
DTSTART:20270328T010000
END:DAYLIGHT
BEGIN:STANDARD
TZOFFSETFROM:+0200
TZOFFSETTO:+0100
TZNAME:CET
DTSTART:20271031T010000
END:STANDARD
BEGIN:DAYLIGHT
TZOFFSETFROM:+0100
TZOFFSETTO:+0200
TZNAME:CEST
DTSTART:20280326T010000
END:DAYLIGHT
BEGIN:STANDARD
TZOFFSETFROM:+0200
TZOFFSETTO:+0100
TZNAME:CET
DTSTART:20281029T010000
END:STANDARD
END:VTIMEZONE
BEGIN:VEVENT
DTSTART;VALUE=DATE:20260509
DTEND;VALUE=DATE:20270601
DTSTAMP:20260422T131046
CREATED:20230212T164143Z
LAST-MODIFIED:20260330T180735Z
UID:1838-1778284800-1811807999@dav-meiningen.de
SUMMARY:1. Arbeitseinsatz RBH
DESCRIPTION:Termin steht noch nicht fest. Bekanntmachung hier\, sobald bekannt. \n  \n \nHallo Leute – unsere Hütte und wir brauchen wieder Helfer\, es gibt für alle was zu tun. Wer kommen kann – wir freuen uns über jeden!  … und wer viel (oder/und) gut arbeitet\, muss auch nicht hungern. Also Leute nicht zu Hause Füße hoch\, sondern zu uns kommen. \nStart: 10 Uhr
URL:https://dav-meiningen.de/event/1-arbeitseinsatz-rbh/
LOCATION:Rudolf Baumbach Hütte\, Kaltenlengsfelder Weg\, Friedelshausen\, 98634
CATEGORIES:Arbeitseinsatz
ORGANIZER;CN="Gunter Ungerecht":MAILTO:info@dav-meiningen.de
END:VEVENT
BEGIN:VEVENT
DTSTART;VALUE=DATE:20260828
DTEND;VALUE=DATE:20260831
DTSTAMP:20260422T131046
CREATED:20260223T211409Z
LAST-MODIFIED:20260223T211409Z
UID:2608-1787875200-1788134399@dav-meiningen.de
SUMMARY:Wanderung zur Klostertaler Umwelthütte von der Bielerhöhe
DESCRIPTION:Vom Parkplatz Bielerhöhe ist die Berghütte auf einem Anstieg\, Tourenmöglichkeit zur Sonntagsspitze auf 2.882 hm Von 340 hm einfach zu erreichen\, Hütte befindet sich im Silvrettagebiet \nAusrüstung:\nOutdoor Kochgeschirr\, Kocher\, Verpflegung für Eigenbedarf\, Schlafsack\, Wasser\, „lustige“ Getränke \nTeilnahme:\nnach Absprache mit Steffen Weibrecht \nKontakt Hütte:\nwww.alpenverein.de/klostertaler-umwelthütte\nEigenanmeldung der Teilnehmer auf der Hütte
URL:https://dav-meiningen.de/event/wanderung-zur-klostertaler-umwelthuette-von-der-bielerhoehe/
LOCATION:Parkplatz Bielerhöhe\, Silvretta Hochalpenstraße 90c\, Partenen\, 6794
CATEGORIES:Bergwanderung
ORGANIZER;CN="Steffen Weibrecht":MAILTO:nth@dav-meiningen.de
END:VEVENT
BEGIN:VEVENT
DTSTART;TZID=Europe/Berlin:20260828T200000
DTEND;TZID=Europe/Berlin:20260828T230000
DTSTAMP:20260422T131046
CREATED:20230312T185732Z
LAST-MODIFIED:20260223T211511Z
UID:1896-1787947200-1787958000@dav-meiningen.de
SUMMARY:DAV Stammtisch
DESCRIPTION:Achtung – Auf Grund einer Schließung des Gasthauses kann sich der Termin oder Treffpunkt noch ändern. \n  \nHallo Bergfreunde\, \nes gibt nicht nur Arbeit\, man muss sich auch mal einfach nur treffen. Das tun wir ab diesem Jahr in der „Linde“ in Untermaßfeld zum Austauschen von Bergerlebnissen\, Touren planen\, gut essen und trinken und zum gemütlichen Beisammensein. Wer nicht kommt\, verpasst was!
URL:https://dav-meiningen.de/event/dav-stammtisch-3/
LOCATION:Zur Linde Gasthaus\, Henneberger Straße 2\, Untermaßfeld\, Thüringen\, 98617\, Deutschland
CATEGORIES:Gruppentreff
ORGANIZER;CN="Gunter Ungerecht":MAILTO:info@dav-meiningen.de
END:VEVENT
BEGIN:VEVENT
DTSTART;TZID=Europe/Berlin:20260829T050000
DTEND;TZID=Europe/Berlin:20260903T210000
DTSTAMP:20260422T131046
CREATED:20260330T184657Z
LAST-MODIFIED:20260330T184953Z
UID:2643-1787979600-1788469200@dav-meiningen.de
SUMMARY:Sektionstour – Buongiorno Trieste\, Buongiorno Carso!
DESCRIPTION:6-Tage-Tour der Sektion Meiningen des DAV auf den Spuren Rudolf Baumbachs \n  \nAllgemeines \n  \nUnsere Sektionsfahrt findet vom 29. August bis 03. September 2026 statt. Sie führt in eine Region\, in der sich alpine Landschaft und mediterranes Flair\, Kalkgebirge und Adria\, Enzianschnaps und Prosecco begegnen: in den Triester Karst. Die Region ist berühmt durch die weitverzweigten Karsthöhlen\, in denen ganze Flüsse verschwinden. Für uns ist sie auch vereinsgeschichtlich interessant: Hier war unser Gründungs- und Ehrenmitglied Rudolf Baumbach (1840 – 1905) Mitbegründer der Sektion Küstenland des Deutschen und Österreichischen Alpenvereins\, hier begann seine Karriere als Alpendichter. \nVom 31.8. bis 2.9. teilen wir uns tagsüber nach dem Twin-Konzept in 2 Gruppen auf: Gruppe A Wanderer; Gruppe B Kletterer \nAchtung! Unsere Ausflüge sind Gemeinschaftstouren\, keine Führungstouren! Das heißt: Eigenverantwortung bei Ausrüstung\, Einschätzung der aktuellen Kondition und der technischen Fähigkeiten. \n  \nLeistungen \n  \n\nHin- und Rückreise im Reisebus der Fa. Rhönsegler. Der Bus steht für Ausflüge vor Ort zur Verfügung.\n5 Übernachtungen in 2- oder 3-Bett-Zimmern mit 4x Halbpension (HP) und 1x Übernachtung mit Frühstück (Ü/F) sowie Frühstück (F) am Abreisetag im Center Hotel in Basovizza (Einzelzimmer sind je nach Verfügbarkeit gegen Aufpreis vor Ort individuell buchbar).\nStadtführung Triest auf den Spuren Rudolf Baumbachs\n2x geführte Wanderung oder Klettern im Karst\n1 Tag in der Unterwelt: Wir erkunden eine Karsthöhle\n\n  \nZusatzkosten: Eintrittsgelder\, Transfers mit ÖPNV\, Abendessen am 30.8. \n  \nProgramm \n  \n29.8.    HP; 5.00 Uhr Abfahrt ab Meiningen\, Parkplatz Großmutterwiesen \n17.00 Uhr Ankunft in Basovizza\, Check In \n  \n30.8.   Ü/F; 1 Tag in Triest\, abends Bergsteigertreffen mit den Triester Alpenvereinen; Abendessen unterwegs; Transfers mit Bus \n  \n31.8.    HP; Busfahrt nach Opicina; Gruppe A: Wanderung von Triest nach Prosecco; Gruppe B: Klettern an der Via Napoleonica; Heimkehr nach Basovizza mit Bus; \n  \n1.9.      HP; Gruppe A und Gruppe B: Wandern oder Klettern im Val Rosandra; Hin- und Rückfahrt mit Bus; \n  \n2.9.      HP; Busfahrt nach St. Kanzian/ Škocjan\, Besichtigung der weltberühmten Höhle (UNESCO-Welterbe!); Gruppe A: geführter Rundgang auf Touristenweg; Gruppe B: geführte Erkundung des historischen Hanke Channel; Rückfahrt ins Hotel \n  \n3.9.      F; 9.00 Uhr Abfahrt nach Meiningen\, Ankunft 21.00 Uhr Parkplatz Großmutterwiesen \n  \n  \nKosten \n  \nSumme p.P.                                     500 € \nDavon Anzahlung bis 15. 05.      200 € \nZahlung Restbetrag bis 15.08.  300 €  \n  \nKonto: DAV-Sektion Meiningen\, Rhön-Rennsteig-Sparkasse \nIBAN: DE65 8405 0000 1305 0045 54 \nBIC: HELADEF1RRS \nKennwort: Triest 2026 \n  \nAnmeldungsmodus \n  \nDie verbindliche Anmeldung erfolgt durch den Eingang der Anzahlung auf unser Vereinskonto. \nAus organisatorischen Gründen ist zudem eine Anmeldung per Email erforderlich mit folgenden Angaben: \n*Anzahl und Namen der Teilnehmer \n* Mobiltelefon-Nr. \n* Zuordnung zu Gruppe A oder Gruppe B? \n* Zimmerwunsch: 2- oder 3-Bettzimmer? \n  \nAchtung! Kostenlose Stornierung bis 25.07.\, danach keine Rückerstattung möglich. \nWir empfehlen den Abschluss einer Reiserücktrittsversicherung \n  \nKontakt: Andreas Seifert\, Mobil 015 150 714 294\, Email: seifert.ehn@gmail.com \n  \nAllora ciao e arrivederci in Carso!
URL:https://dav-meiningen.de/event/sektionstour-buongiorno-trieste-buongiorno-carso/
CATEGORIES:Bergtour,Hochtour,Wanderung
ORGANIZER;CN="Dr. Andreas Seifert":MAILTO:pressereferent@dav-meiningen.de
END:VEVENT
END:VCALENDAR